BEGIN:VCALENDAR
VERSION:2.0
PRODID:-//USNA 1978 - ECPv6.5.1.5//NONSGML v1.0//EN
CALSCALE:GREGORIAN
METHOD:PUBLISH
X-WR-CALNAME:USNA 1978
X-ORIGINAL-URL:https://www.usna1978.org
X-WR-CALDESC:Events for USNA 1978
REFRESH-INTERVAL;VALUE=DURATION:PT1H
X-Robots-Tag:noindex
X-PUBLISHED-TTL:PT1H
BEGIN:VTIMEZONE
TZID:America/New_York
BEGIN:DAYLIGHT
TZOFFSETFROM:-0500
TZOFFSETTO:-0400
TZNAME:EDT
DTSTART:20230312T070000
END:DAYLIGHT
BEGIN:STANDARD
TZOFFSETFROM:-0400
TZOFFSETTO:-0500
TZNAME:EST
DTSTART:20231105T060000
END:STANDARD
END:VTIMEZONE
BEGIN:VEVENT
DTSTART;TZID=America/New_York:20231110T000000
DTEND;TZID=America/New_York:20231110T235959
DTSTAMP:20260421T112154
CREATED:20230612T194405Z
LAST-MODIFIED:20230612T194406Z
UID:18898-1699574400-1699660799@www.usna1978.org
SUMMARY:U.S. Marine Corps Birthday
DESCRIPTION:
URL:https://www.usna1978.org/event/u-s-marine-corps-birthday-2/
END:VEVENT
END:VCALENDAR