BEGIN:VCALENDAR
VERSION:2.0
PRODID:-//USNA 1978 - ECPv6.5.1.5//NONSGML v1.0//EN
CALSCALE:GREGORIAN
METHOD:PUBLISH
X-ORIGINAL-URL:https://www.usna1978.org
X-WR-CALDESC:Events for USNA 1978
REFRESH-INTERVAL;VALUE=DURATION:PT1H
X-Robots-Tag:noindex
X-PUBLISHED-TTL:PT1H
BEGIN:VTIMEZONE
TZID:America/New_York
BEGIN:DAYLIGHT
TZOFFSETFROM:-0500
TZOFFSETTO:-0400
TZNAME:EDT
DTSTART:20230312T070000
END:DAYLIGHT
BEGIN:STANDARD
TZOFFSETFROM:-0400
TZOFFSETTO:-0500
TZNAME:EST
DTSTART:20231105T060000
END:STANDARD
END:VTIMEZONE
BEGIN:VEVENT
DTSTART;TZID=America/New_York:20230817T080000
DTEND;TZID=America/New_York:20230817T170000
DTSTAMP:20260421T174258
CREATED:20230104T224030Z
LAST-MODIFIED:20230104T224349Z
UID:18406-1692259200-1692291600@www.usna1978.org
SUMMARY:Fall Term Begins
DESCRIPTION:
URL:https://www.usna1978.org/event/fall-term-begins-2/
END:VEVENT
BEGIN:VEVENT
DTSTART;TZID=America/New_York:20230818T080000
DTEND;TZID=America/New_York:20230818T170000
DTSTAMP:20260421T174258
CREATED:20230104T224135Z
LAST-MODIFIED:20230104T224136Z
UID:18408-1692345600-1692378000@www.usna1978.org
SUMMARY:August Graduation
DESCRIPTION:
URL:https://www.usna1978.org/event/august-graduation-3/
END:VEVENT
BEGIN:VEVENT
DTSTART;TZID=America/New_York:20230824T080000
DTEND;TZID=America/New_York:20230824T170000
DTSTAMP:20260421T174258
CREATED:20230612T193557Z
LAST-MODIFIED:20230612T193559Z
UID:18885-1692864000-1692896400@www.usna1978.org
SUMMARY:Fall Semester Classes Start
DESCRIPTION:First day of Fall semester.
URL:https://www.usna1978.org/event/fall-semester-classes-start/
END:VEVENT
BEGIN:VEVENT
DTSTART;TZID=America/New_York:20230826T080000
DTEND;TZID=America/New_York:20230826T170000
DTSTAMP:20260421T174258
CREATED:20230612T193720Z
LAST-MODIFIED:20230612T193722Z
UID:18888-1693036800-1693069200@www.usna1978.org
SUMMARY:Notre Dame vs. Navy
DESCRIPTION:
URL:https://www.usna1978.org/event/notre-dame-vs-navy/
END:VEVENT
END:VCALENDAR