BEGIN:VCALENDAR
VERSION:2.0
PRODID:-//USNA 1978 - ECPv6.5.1.5//NONSGML v1.0//EN
CALSCALE:GREGORIAN
METHOD:PUBLISH
X-WR-CALNAME:USNA 1978
X-ORIGINAL-URL:https://www.usna1978.org
X-WR-CALDESC:Events for USNA 1978
REFRESH-INTERVAL;VALUE=DURATION:PT1H
X-Robots-Tag:noindex
X-PUBLISHED-TTL:PT1H
BEGIN:VTIMEZONE
TZID:America/New_York
BEGIN:DAYLIGHT
TZOFFSETFROM:-0500
TZOFFSETTO:-0400
TZNAME:EDT
DTSTART:20230312T070000
END:DAYLIGHT
BEGIN:STANDARD
TZOFFSETFROM:-0400
TZOFFSETTO:-0500
TZNAME:EST
DTSTART:20231105T060000
END:STANDARD
END:VTIMEZONE
BEGIN:VEVENT
DTSTART;TZID=America/New_York:20230503T080000
DTEND;TZID=America/New_York:20230503T170000
DTSTAMP:20260421T224753
CREATED:20220720T141403Z
LAST-MODIFIED:20220720T141441Z
UID:17656-1683100800-1683133200@www.usna1978.org
SUMMARY:Last Day of Classes
DESCRIPTION:
URL:https://www.usna1978.org/event/last-day-of-classes-2/
END:VEVENT
BEGIN:VEVENT
DTSTART;TZID=America/New_York:20230504T080000
DTEND;TZID=America/New_York:20230512T170000
DTSTAMP:20260421T224753
CREATED:20220720T141643Z
LAST-MODIFIED:20221216T030120Z
UID:17658-1683187200-1683910800@www.usna1978.org
SUMMARY:Exams
DESCRIPTION:
URL:https://www.usna1978.org/event/exams-5/
END:VEVENT
BEGIN:VEVENT
DTSTART;TZID=America/New_York:20230520T080000
DTEND;TZID=America/New_York:20230520T170000
DTSTAMP:20260421T224753
CREATED:20221216T030251Z
LAST-MODIFIED:20221216T030253Z
UID:18342-1684569600-1684602000@www.usna1978.org
SUMMARY:Class of 2024 Ring Dance
DESCRIPTION:
URL:https://www.usna1978.org/event/class-of-2024-ring-dance/
END:VEVENT
BEGIN:VEVENT
DTSTART;TZID=America/New_York:20230526T080000
DTEND;TZID=America/New_York:20230526T170000
DTSTAMP:20260421T224753
CREATED:20220720T141912Z
LAST-MODIFIED:20220720T141914Z
UID:17660-1685088000-1685120400@www.usna1978.org
SUMMARY:Class of 2023 Graduation
DESCRIPTION:
URL:https://www.usna1978.org/event/class-of-2023-graduation-2/
END:VEVENT
END:VCALENDAR