BEGIN:VCALENDAR
VERSION:2.0
PRODID:-//USNA 1978 - ECPv6.5.1.5//NONSGML v1.0//EN
CALSCALE:GREGORIAN
METHOD:PUBLISH
X-WR-CALNAME:USNA 1978
X-ORIGINAL-URL:https://www.usna1978.org
X-WR-CALDESC:Events for USNA 1978
REFRESH-INTERVAL;VALUE=DURATION:PT1H
X-Robots-Tag:noindex
X-PUBLISHED-TTL:PT1H
BEGIN:VTIMEZONE
TZID:America/New_York
BEGIN:DAYLIGHT
TZOFFSETFROM:-0500
TZOFFSETTO:-0400
TZNAME:EDT
DTSTART:20230312T070000
END:DAYLIGHT
BEGIN:STANDARD
TZOFFSETFROM:-0400
TZOFFSETTO:-0500
TZNAME:EST
DTSTART:20231105T060000
END:STANDARD
END:VTIMEZONE
BEGIN:VEVENT
DTSTART;TZID=America/New_York:20230313T080000
DTEND;TZID=America/New_York:20230317T170000
DTSTAMP:20260422T015011
CREATED:20220513T131905Z
LAST-MODIFIED:20220513T131906Z
UID:17401-1678694400-1679072400@www.usna1978.org
SUMMARY:Spring Break
DESCRIPTION:
URL:https://www.usna1978.org/event/spring-break-2/
LOCATION:U.S. Naval Academy Chapel\, 121 Blake Rd\, Annapolis\, MD\, 21402\, United States
END:VEVENT
BEGIN:VEVENT
DTSTART;TZID=America/New_York:20230324T080000
DTEND;TZID=America/New_York:20230324T170000
DTSTAMP:20260422T015011
CREATED:20221213T161011Z
LAST-MODIFIED:20230210T123053Z
UID:18254-1679644800-1679677200@www.usna1978.org
SUMMARY:Distinguished Graduate Award Medal Ceremony
DESCRIPTION:
URL:https://www.usna1978.org/event/distinguished-graduate-award-medal-ceremony/
END:VEVENT
BEGIN:VEVENT
DTSTART;TZID=America/New_York:20230325T080000
DTEND;TZID=America/New_York:20230325T170000
DTSTAMP:20260422T015011
CREATED:20230210T122844Z
LAST-MODIFIED:20230210T122845Z
UID:18661-1679731200-1679763600@www.usna1978.org
SUMMARY:Women's Rugby\, Army at Navy
DESCRIPTION:0-0
URL:https://www.usna1978.org/event/womens-rugby-army-at-navy/
END:VEVENT
END:VCALENDAR