BEGIN:VCALENDAR
VERSION:2.0
PRODID:-//USNA 1978 - ECPv6.5.1.5//NONSGML v1.0//EN
CALSCALE:GREGORIAN
METHOD:PUBLISH
X-ORIGINAL-URL:https://www.usna1978.org
X-WR-CALDESC:Events for USNA 1978
REFRESH-INTERVAL;VALUE=DURATION:PT1H
X-Robots-Tag:noindex
X-PUBLISHED-TTL:PT1H
BEGIN:VTIMEZONE
TZID:America/New_York
BEGIN:DAYLIGHT
TZOFFSETFROM:-0500
TZOFFSETTO:-0400
TZNAME:EDT
DTSTART:20220313T070000
END:DAYLIGHT
BEGIN:STANDARD
TZOFFSETFROM:-0400
TZOFFSETTO:-0500
TZNAME:EST
DTSTART:20221106T060000
END:STANDARD
END:VTIMEZONE
BEGIN:VEVENT
DTSTART;TZID=America/New_York:20220504T080000
DTEND;TZID=America/New_York:20220504T170000
DTSTAMP:20260422T222040
CREATED:20211224T171959Z
LAST-MODIFIED:20211224T171959Z
UID:16644-1651651200-1651683600@www.usna1978.org
SUMMARY:Last Day of Classes
DESCRIPTION:
URL:https://www.usna1978.org/event/last-day-of-classes/
END:VEVENT
BEGIN:VEVENT
DTSTART;TZID=America/New_York:20220505T080000
DTEND;TZID=America/New_York:20220512T170000
DTSTAMP:20260422T222040
CREATED:20220513T132134Z
LAST-MODIFIED:20220513T132135Z
UID:17405-1651737600-1652374800@www.usna1978.org
SUMMARY:Exams
DESCRIPTION:
URL:https://www.usna1978.org/event/exams-4/
LOCATION:U.S. Naval Academy Chapel\, 121 Blake Rd\, Annapolis\, MD\, 21402\, United States
END:VEVENT
BEGIN:VEVENT
DTSTART;TZID=America/New_York:20220506T080000
DTEND;TZID=America/New_York:20220513T170000
DTSTAMP:20260422T222040
CREATED:20211224T172053Z
LAST-MODIFIED:20211224T172053Z
UID:16646-1651824000-1652461200@www.usna1978.org
SUMMARY:Exams
DESCRIPTION:
URL:https://www.usna1978.org/event/exams-2/
END:VEVENT
BEGIN:VEVENT
DTSTART;TZID=America/New_York:20220513T080000
DTEND;TZID=America/New_York:20220513T170000
DTSTAMP:20260422T222040
CREATED:20220513T132023Z
LAST-MODIFIED:20220720T140922Z
UID:17403-1652428800-1652461200@www.usna1978.org
SUMMARY:Last Day of Classes for Spring Term
DESCRIPTION:
URL:https://www.usna1978.org/event/last-day-of-classes-for-spring-term/
LOCATION:U.S. Naval Academy Chapel\, 121 Blake Rd\, Annapolis\, MD\, 21402\, United States
END:VEVENT
BEGIN:VEVENT
DTSTART;TZID=America/New_York:20220520T080000
DTEND;TZID=America/New_York:20220520T170000
DTSTAMP:20260422T222040
CREATED:20220511T125232Z
LAST-MODIFIED:20220511T125326Z
UID:17355-1653033600-1653066000@www.usna1978.org
SUMMARY:Commissioning Week Begins
DESCRIPTION:
URL:https://www.usna1978.org/event/17355/
END:VEVENT
BEGIN:VEVENT
DTSTART;TZID=America/New_York:20220521T190000
DTEND;TZID=America/New_York:20220521T230000
DTSTAMP:20260422T222040
CREATED:20220511T125522Z
LAST-MODIFIED:20220511T125523Z
UID:17358-1653159600-1653174000@www.usna1978.org
SUMMARY:Class of 2023 Ring Dance
DESCRIPTION:
URL:https://www.usna1978.org/event/class-of-2023-ring-dance/
END:VEVENT
BEGIN:VEVENT
DTSTART;TZID=America/New_York:20220523T090000
DTEND;TZID=America/New_York:20220523T110000
DTSTAMP:20260422T222040
CREATED:20220511T130406Z
LAST-MODIFIED:20220511T130407Z
UID:17365-1653296400-1653303600@www.usna1978.org
SUMMARY:Class of 2025 Herndon Climb
DESCRIPTION:
URL:https://www.usna1978.org/event/class-of-2025-herndon-climb/
END:VEVENT
BEGIN:VEVENT
DTSTART;TZID=America/New_York:20220524T140000
DTEND;TZID=America/New_York:20220524T150000
DTSTAMP:20260422T222040
CREATED:20220511T125814Z
LAST-MODIFIED:20220511T125815Z
UID:17360-1653400800-1653404400@www.usna1978.org
SUMMARY:Blue Angels Flight Rehearsal
DESCRIPTION:
URL:https://www.usna1978.org/event/blue-angels-flight-rehearsal-2/
END:VEVENT
BEGIN:VEVENT
DTSTART;TZID=America/New_York:20220525T140000
DTEND;TZID=America/New_York:20220525T150000
DTSTAMP:20260422T222040
CREATED:20220511T130113Z
LAST-MODIFIED:20220511T130114Z
UID:17362-1653487200-1653490800@www.usna1978.org
SUMMARY:Blue Angels Flight Demonstration
DESCRIPTION:
URL:https://www.usna1978.org/event/blue-angels-flight-demonstration-3/
END:VEVENT
BEGIN:VEVENT
DTSTART;TZID=America/New_York:20220526T080000
DTEND;TZID=America/New_York:20220526T170000
DTSTAMP:20260422T222040
CREATED:20220513T132253Z
LAST-MODIFIED:20220513T132254Z
UID:17407-1653552000-1653584400@www.usna1978.org
SUMMARY:Class of 2023 Graduation
DESCRIPTION:
URL:https://www.usna1978.org/event/class-of-2023-graduation/
LOCATION:U.S. Naval Academy Chapel\, 121 Blake Rd\, Annapolis\, MD\, 21402\, United States
END:VEVENT
BEGIN:VEVENT
DTSTART;TZID=America/New_York:20220527T100000
DTEND;TZID=America/New_York:20220527T120000
DTSTAMP:20260422T222040
CREATED:20211224T171849Z
LAST-MODIFIED:20220511T130151Z
UID:16642-1653645600-1653652800@www.usna1978.org
SUMMARY:Class of 2022 Graduation
DESCRIPTION:
URL:https://www.usna1978.org/event/class-of-2022-graduation/
END:VEVENT
END:VCALENDAR