BEGIN:VCALENDAR
VERSION:2.0
PRODID:-//USNA 1978 - ECPv6.5.1.5//NONSGML v1.0//EN
CALSCALE:GREGORIAN
METHOD:PUBLISH
X-ORIGINAL-URL:https://www.usna1978.org
X-WR-CALDESC:Events for USNA 1978
REFRESH-INTERVAL;VALUE=DURATION:PT1H
X-Robots-Tag:noindex
X-PUBLISHED-TTL:PT1H
BEGIN:VTIMEZONE
TZID:America/New_York
BEGIN:DAYLIGHT
TZOFFSETFROM:-0500
TZOFFSETTO:-0400
TZNAME:EDT
DTSTART:20210314T070000
END:DAYLIGHT
BEGIN:STANDARD
TZOFFSETFROM:-0400
TZOFFSETTO:-0500
TZNAME:EST
DTSTART:20211107T060000
END:STANDARD
END:VTIMEZONE
BEGIN:VEVENT
DTSTART;VALUE=DATE:20211001
DTEND;VALUE=DATE:20211004
DTSTAMP:20260423T142337
CREATED:20210226T030455Z
LAST-MODIFIED:20210226T030455Z
UID:15013-1633046400-1633305599@www.usna1978.org
SUMMARY:2/C Parents' Weekend
DESCRIPTION:
URL:https://www.usna1978.org/event/2-c-parents-weekend/
END:VEVENT
BEGIN:VEVENT
DTSTART;VALUE=DATE:20211002
DTEND;VALUE=DATE:20211003
DTSTAMP:20260423T142337
CREATED:20210219T144944Z
LAST-MODIFIED:20210219T144944Z
UID:14657-1633132800-1633132800@www.usna1978.org
SUMMARY:Navy vs. UCF
DESCRIPTION:
URL:https://www.usna1978.org/event/navy-vs-ucf/
END:VEVENT
BEGIN:VEVENT
DTSTART;VALUE=DATE:20211009
DTEND;VALUE=DATE:20211010
DTSTAMP:20260423T142337
CREATED:20210219T145042Z
LAST-MODIFIED:20210219T145042Z
UID:14659-1633737600-1633823999@www.usna1978.org
SUMMARY:Navy vs. SMU
DESCRIPTION:
URL:https://www.usna1978.org/event/navy-vs-smu/
END:VEVENT
BEGIN:VEVENT
DTSTART;VALUE=DATE:20211014
DTEND;VALUE=DATE:20211015
DTSTAMP:20260423T142337
CREATED:20210219T150911Z
LAST-MODIFIED:20210219T150911Z
UID:14661-1634169600-1634255999@www.usna1978.org
SUMMARY:Navy at Memphis
DESCRIPTION:
URL:https://www.usna1978.org/event/navy-at-memphis-2/
LOCATION:Simmons Bank Liberty Stadium\, 335 S Hollywood St\, Memphis\, TN\, 38104\, United States
END:VEVENT
BEGIN:VEVENT
DTSTART;VALUE=DATE:20211023
DTEND;VALUE=DATE:20211024
DTSTAMP:20260423T142337
CREATED:20210219T151019Z
LAST-MODIFIED:20210219T165936Z
UID:14664-1634947200-1635033599@www.usna1978.org
SUMMARY:Navy vs. Cinncinnati
DESCRIPTION:
URL:https://www.usna1978.org/event/navy-vs-cinncinnati/
END:VEVENT
BEGIN:VEVENT
DTSTART;VALUE=DATE:20211029
DTEND;VALUE=DATE:20211030
DTSTAMP:20260423T142337
CREATED:20210219T151120Z
LAST-MODIFIED:20210219T151120Z
UID:14666-1635465600-1635551999@www.usna1978.org
SUMMARY:Navy at Tulsa
DESCRIPTION:
URL:https://www.usna1978.org/event/navy-at-tulsa-2/
END:VEVENT
END:VCALENDAR