BEGIN:VCALENDAR
VERSION:2.0
PRODID:-//USNA 1978 - ECPv6.5.1.5//NONSGML v1.0//EN
CALSCALE:GREGORIAN
METHOD:PUBLISH
X-ORIGINAL-URL:https://www.usna1978.org
X-WR-CALDESC:Events for USNA 1978
REFRESH-INTERVAL;VALUE=DURATION:PT1H
X-Robots-Tag:noindex
X-PUBLISHED-TTL:PT1H
BEGIN:VTIMEZONE
TZID:America/New_York
BEGIN:DAYLIGHT
TZOFFSETFROM:-0500
TZOFFSETTO:-0400
TZNAME:EDT
DTSTART:20210314T070000
END:DAYLIGHT
BEGIN:STANDARD
TZOFFSETFROM:-0400
TZOFFSETTO:-0500
TZNAME:EST
DTSTART:20211107T060000
END:STANDARD
END:VTIMEZONE
BEGIN:VEVENT
DTSTART;VALUE=DATE:20210904
DTEND;VALUE=DATE:20210905
DTSTAMP:20260423T142336
CREATED:20210219T144713Z
LAST-MODIFIED:20210219T144713Z
UID:14650-1630713600-1630799999@www.usna1978.org
SUMMARY:Navy vs. Marshall
DESCRIPTION:
URL:https://www.usna1978.org/event/navy-vs-marshall/
END:VEVENT
BEGIN:VEVENT
DTSTART;VALUE=DATE:20210911
DTEND;VALUE=DATE:20210912
DTSTAMP:20260423T142336
CREATED:20210219T144802Z
LAST-MODIFIED:20210219T144802Z
UID:14652-1631318400-1631318400@www.usna1978.org
SUMMARY:Navy vs. Air Force
DESCRIPTION:
URL:https://www.usna1978.org/event/navy-vs-air-force/
END:VEVENT
BEGIN:VEVENT
DTSTART;VALUE=DATE:20210925
DTEND;VALUE=DATE:20210926
DTSTAMP:20260423T142336
CREATED:20210219T144906Z
LAST-MODIFIED:20210219T144906Z
UID:14654-1632528000-1632528000@www.usna1978.org
SUMMARY:Navy at Houston
DESCRIPTION:
URL:https://www.usna1978.org/event/navy-at-houston-2/
LOCATION:TDECU Stadium\, 3874 Holman St\, Houston\, TX\, 77004\, United States
END:VEVENT
END:VCALENDAR