BEGIN:VCALENDAR
VERSION:2.0
PRODID:-//USNA 1978 - ECPv6.5.1.5//NONSGML v1.0//EN
CALSCALE:GREGORIAN
METHOD:PUBLISH
X-ORIGINAL-URL:https://www.usna1978.org
X-WR-CALDESC:Events for USNA 1978
REFRESH-INTERVAL;VALUE=DURATION:PT1H
X-Robots-Tag:noindex
X-PUBLISHED-TTL:PT1H
BEGIN:VTIMEZONE
TZID:America/New_York
BEGIN:DAYLIGHT
TZOFFSETFROM:-0500
TZOFFSETTO:-0400
TZNAME:EDT
DTSTART:20210314T070000
END:DAYLIGHT
BEGIN:STANDARD
TZOFFSETFROM:-0400
TZOFFSETTO:-0500
TZNAME:EST
DTSTART:20211107T060000
END:STANDARD
END:VTIMEZONE
BEGIN:VEVENT
DTSTART;TZID=America/New_York:20210505T080000
DTEND;TZID=America/New_York:20210505T170000
DTSTAMP:20260423T221357
CREATED:20200720T105231Z
LAST-MODIFIED:20210112T152619Z
UID:10737-1620201600-1620234000@www.usna1978.org
SUMMARY:Spring Term Ends - Last Day of Classes
DESCRIPTION:
URL:https://www.usna1978.org/event/spring-term-ends-last-day-of-classes/
END:VEVENT
BEGIN:VEVENT
DTSTART;TZID=America/New_York:20210507T080000
DTEND;TZID=America/New_York:20210507T170000
DTSTAMP:20260423T221357
CREATED:20200720T105333Z
LAST-MODIFIED:20200720T105333Z
UID:10739-1620374400-1620406800@www.usna1978.org
SUMMARY:First Day of Exams
DESCRIPTION:
URL:https://www.usna1978.org/event/first-day-of-exams/
END:VEVENT
BEGIN:VEVENT
DTSTART;TZID=America/New_York:20210508T080000
DTEND;TZID=America/New_York:20210508T170000
DTSTAMP:20260423T221357
CREATED:20210112T194004Z
LAST-MODIFIED:20210112T194004Z
UID:12873-1620460800-1620493200@www.usna1978.org
SUMMARY:Baseball N Star Game\, Navy at Army\, West Point
DESCRIPTION:
URL:https://www.usna1978.org/event/baseball-n-star-game-navy-at-army-west-point/
END:VEVENT
BEGIN:VEVENT
DTSTART;TZID=America/New_York:20210514T080000
DTEND;TZID=America/New_York:20210514T170000
DTSTAMP:20260423T221357
CREATED:20200720T105419Z
LAST-MODIFIED:20200720T105419Z
UID:10741-1620979200-1621011600@www.usna1978.org
SUMMARY:Last Day of Exams
DESCRIPTION:
URL:https://www.usna1978.org/event/last-day-of-exams/
END:VEVENT
BEGIN:VEVENT
DTSTART;VALUE=DATE:20210521
DTEND;VALUE=DATE:20210529
DTSTAMP:20260423T221357
CREATED:20210226T030321Z
LAST-MODIFIED:20210226T030321Z
UID:15011-1621555200-1622246399@www.usna1978.org
SUMMARY:Comissioning Week for Class of 2021
DESCRIPTION:
URL:https://www.usna1978.org/event/comissioning-week-for-class-of-2021/
END:VEVENT
BEGIN:VEVENT
DTSTART;TZID=America/New_York:20210522T133000
DTEND;TZID=America/New_York:20210522T170000
DTSTAMP:20260423T221357
CREATED:20210504T004821Z
LAST-MODIFIED:20210504T004821Z
UID:15616-1621690200-1621702800@www.usna1978.org
SUMMARY:Class of 2024 Herndon Climb
DESCRIPTION:
URL:https://www.usna1978.org/event/class-of-2024-herndon-climb/
END:VEVENT
BEGIN:VEVENT
DTSTART;TZID=America/New_York:20210523T083000
DTEND;TZID=America/New_York:20210523T100000
DTSTAMP:20260423T221357
CREATED:20210504T005011Z
LAST-MODIFIED:20210504T005021Z
UID:15618-1621758600-1621764000@www.usna1978.org
SUMMARY:Catholic Baccalaureate Mass
DESCRIPTION:
URL:https://www.usna1978.org/event/catholic-baccalaureate-mass/
END:VEVENT
BEGIN:VEVENT
DTSTART;TZID=America/New_York:20210523T110000
DTEND;TZID=America/New_York:20210523T123000
DTSTAMP:20260423T221357
CREATED:20210504T005116Z
LAST-MODIFIED:20210504T005117Z
UID:15621-1621767600-1621773000@www.usna1978.org
SUMMARY:Protestant Baccalaureate Worship Service
DESCRIPTION:
URL:https://www.usna1978.org/event/protestant-baccalaureate-worship-service/
END:VEVENT
BEGIN:VEVENT
DTSTART;TZID=America/New_York:20210525T140000
DTEND;TZID=America/New_York:20210525T150000
DTSTAMP:20260423T221357
CREATED:20210504T005322Z
LAST-MODIFIED:20210504T005322Z
UID:15623-1621951200-1621954800@www.usna1978.org
SUMMARY:Blue Angels Flight Rehearsal
DESCRIPTION:
URL:https://www.usna1978.org/event/blue-angels-flight-rehearsal/
END:VEVENT
BEGIN:VEVENT
DTSTART;TZID=America/New_York:20210526T140000
DTEND;TZID=America/New_York:20210526T150000
DTSTAMP:20260423T221357
CREATED:20210504T005500Z
LAST-MODIFIED:20210504T005500Z
UID:15625-1622037600-1622041200@www.usna1978.org
SUMMARY:Blue Angels Flight Demonstration
DESCRIPTION:
URL:https://www.usna1978.org/event/blue-angels-flight-demonstration-2/
END:VEVENT
BEGIN:VEVENT
DTSTART;TZID=America/New_York:20210527T110000
DTEND;TZID=America/New_York:20210527T130000
DTSTAMP:20260423T221357
CREATED:20210504T005627Z
LAST-MODIFIED:20210504T005627Z
UID:15627-1622113200-1622120400@www.usna1978.org
SUMMARY:Color Parade
DESCRIPTION:
URL:https://www.usna1978.org/event/color-parade/
END:VEVENT
BEGIN:VEVENT
DTSTART;TZID=America/New_York:20210528T100000
DTEND;TZID=America/New_York:20210528T120000
DTSTAMP:20260423T221357
CREATED:20210504T005819Z
LAST-MODIFIED:20210504T005819Z
UID:15629-1622196000-1622203200@www.usna1978.org
SUMMARY:Class of 2021 Graduation
DESCRIPTION:
URL:https://www.usna1978.org/event/class-of-2021-graduation-2/
END:VEVENT
END:VCALENDAR