BEGIN:VCALENDAR
VERSION:2.0
PRODID:-//USNA 1978 - ECPv6.5.1.5//NONSGML v1.0//EN
CALSCALE:GREGORIAN
METHOD:PUBLISH
X-ORIGINAL-URL:https://www.usna1978.org
X-WR-CALDESC:Events for USNA 1978
REFRESH-INTERVAL;VALUE=DURATION:PT1H
X-Robots-Tag:noindex
X-PUBLISHED-TTL:PT1H
BEGIN:VTIMEZONE
TZID:America/New_York
BEGIN:DAYLIGHT
TZOFFSETFROM:-0500
TZOFFSETTO:-0400
TZNAME:EDT
DTSTART:20210314T070000
END:DAYLIGHT
BEGIN:STANDARD
TZOFFSETFROM:-0400
TZOFFSETTO:-0500
TZNAME:EST
DTSTART:20211107T060000
END:STANDARD
END:VTIMEZONE
BEGIN:VEVENT
DTSTART;VALUE=DATE:20210403
DTEND;VALUE=DATE:20210404
DTSTAMP:20260424T002953
CREATED:20210213T202219Z
LAST-MODIFIED:20210213T202219Z
UID:14576-1617408000-1617494399@www.usna1978.org
SUMMARY:Men’s Outdoor Track and Field N Star Meet\, Army at Navy\, Annapolis\, MD
DESCRIPTION:
URL:https://www.usna1978.org/event/mens-outdoor-track-and-field-n-star-meet-army-at-navy-annapolis-md/
END:VEVENT
BEGIN:VEVENT
DTSTART;VALUE=DATE:20210417
DTEND;VALUE=DATE:20210418
DTSTAMP:20260424T002953
CREATED:20210213T202317Z
LAST-MODIFIED:20210213T202317Z
UID:14578-1618617600-1618703999@www.usna1978.org
SUMMARY:Men’s Tennis N Star Match\, Navy at Army\, West Point
DESCRIPTION:
URL:https://www.usna1978.org/event/mens-tennis-n-star-match-navy-at-army-west-point/
END:VEVENT
BEGIN:VEVENT
DTSTART;TZID=America/New_York:20210417T080000
DTEND;TZID=America/New_York:20210418T170000
DTSTAMP:20260424T002953
CREATED:20210131T121815Z
LAST-MODIFIED:20210131T121815Z
UID:14342-1618646400-1618765200@www.usna1978.org
SUMMARY:Men's Golf N Star Match\, Navy at Army\, West Point
DESCRIPTION:
URL:https://www.usna1978.org/event/mens-golf-n-star-match-navy-at-army-west-point/
END:VEVENT
BEGIN:VEVENT
DTSTART;TZID=America/New_York:20210424T080000
DTEND;TZID=America/New_York:20210424T170000
DTSTAMP:20260424T002953
CREATED:20210113T033308Z
LAST-MODIFIED:20210113T033308Z
UID:12887-1619251200-1619283600@www.usna1978.org
SUMMARY:Men's Lacrosse N Star Game\, Army at Navy\, Annapolis\, MD
DESCRIPTION:
URL:https://www.usna1978.org/event/mens-lacrosse-n-star-game-army-at-navy-annapolis-md/
END:VEVENT
END:VCALENDAR