BEGIN:VCALENDAR
VERSION:2.0
PRODID:-//USNA 1978 - ECPv6.5.1.5//NONSGML v1.0//EN
CALSCALE:GREGORIAN
METHOD:PUBLISH
X-ORIGINAL-URL:https://www.usna1978.org
X-WR-CALDESC:Events for USNA 1978
REFRESH-INTERVAL;VALUE=DURATION:PT1H
X-Robots-Tag:noindex
X-PUBLISHED-TTL:PT1H
BEGIN:VTIMEZONE
TZID:America/New_York
BEGIN:DAYLIGHT
TZOFFSETFROM:-0500
TZOFFSETTO:-0400
TZNAME:EDT
DTSTART:20200308T070000
END:DAYLIGHT
BEGIN:STANDARD
TZOFFSETFROM:-0400
TZOFFSETTO:-0500
TZNAME:EST
DTSTART:20201101T060000
END:STANDARD
END:VTIMEZONE
BEGIN:VEVENT
DTSTART;VALUE=DATE:20201107
DTEND;VALUE=DATE:20201108
DTSTAMP:20260424T121319
CREATED:20200315T205542Z
LAST-MODIFIED:20200315T205542Z
UID:8427-1604707200-1604793599@www.usna1978.org
SUMMARY:Navy vs. Tulsa
DESCRIPTION:
URL:https://www.usna1978.org/event/navy-vs-tulsa/
END:VEVENT
BEGIN:VEVENT
DTSTART;VALUE=DATE:20201114
DTEND;VALUE=DATE:20201115
DTSTAMP:20260424T121319
CREATED:20200315T205702Z
LAST-MODIFIED:20200315T205702Z
UID:8429-1605312000-1605398399@www.usna1978.org
SUMMARY:Navy vs. Memphis
DESCRIPTION:
URL:https://www.usna1978.org/event/navy-vs-memphis/
END:VEVENT
BEGIN:VEVENT
DTSTART;VALUE=DATE:20201121
DTEND;VALUE=DATE:20201122
DTSTAMP:20260424T121319
CREATED:20200315T205933Z
LAST-MODIFIED:20200315T210238Z
UID:8431-1605916800-1606003199@www.usna1978.org
SUMMARY:Navy at the University of South Florida\, Tampa FL
DESCRIPTION:
URL:https://www.usna1978.org/event/navy-at-the-university-of-south-florida/
LOCATION:Raymond James Stadium\, Tampa FL\, 4201 N Dale Mabry Stadium\, Tampa\, FL\, 33607\, United States
END:VEVENT
END:VCALENDAR