BEGIN:VCALENDAR
VERSION:2.0
PRODID:-//USNA 1978 - ECPv6.5.1.5//NONSGML v1.0//EN
CALSCALE:GREGORIAN
METHOD:PUBLISH
X-ORIGINAL-URL:https://www.usna1978.org
X-WR-CALDESC:Events for USNA 1978
REFRESH-INTERVAL;VALUE=DURATION:PT1H
X-Robots-Tag:noindex
X-PUBLISHED-TTL:PT1H
BEGIN:VTIMEZONE
TZID:America/New_York
BEGIN:DAYLIGHT
TZOFFSETFROM:-0500
TZOFFSETTO:-0400
TZNAME:EDT
DTSTART:20200308T070000
END:DAYLIGHT
BEGIN:STANDARD
TZOFFSETFROM:-0400
TZOFFSETTO:-0500
TZNAME:EST
DTSTART:20201101T060000
END:STANDARD
END:VTIMEZONE
BEGIN:VEVENT
DTSTART;VALUE=DATE:20200428
DTEND;VALUE=DATE:20200503
DTSTAMP:20260424T201409
CREATED:20190706T103018Z
LAST-MODIFIED:20190706T103637Z
UID:399-1588032000-1588463999@www.usna1978.org
SUMMARY:USNA Spring Semester Exams
DESCRIPTION:
URL:https://www.usna1978.org/event/spring-semester-exams/
END:VEVENT
BEGIN:VEVENT
DTSTART;VALUE=DATE:20200515
DTEND;VALUE=DATE:20200523
DTSTAMP:20260424T201409
CREATED:20200107T011033Z
LAST-MODIFIED:20200107T011033Z
UID:7720-1589500800-1590191999@www.usna1978.org
SUMMARY:Commissioning Week
DESCRIPTION:
URL:https://www.usna1978.org/event/commissioning-week/
END:VEVENT
BEGIN:VEVENT
DTSTART;TZID=America/New_York:20200518T133000
DTEND;TZID=America/New_York:20200518T160000
DTSTAMP:20260424T201409
CREATED:20200107T010946Z
LAST-MODIFIED:20200107T010946Z
UID:7718-1589808600-1589817600@www.usna1978.org
SUMMARY:Herndon Climb
DESCRIPTION:
URL:https://www.usna1978.org/event/herndon-climb/
END:VEVENT
BEGIN:VEVENT
DTSTART;TZID=America/New_York:20200520T140000
DTEND;TZID=America/New_York:20200520T160000
DTSTAMP:20260424T201409
CREATED:20200107T010855Z
LAST-MODIFIED:20200107T010855Z
UID:7716-1589983200-1589990400@www.usna1978.org
SUMMARY:Blue Angels Flight Demonstration
DESCRIPTION:
URL:https://www.usna1978.org/event/blue-angels-flight-demonstration/
END:VEVENT
BEGIN:VEVENT
DTSTART;VALUE=DATE:20200522
DTEND;VALUE=DATE:20200523
DTSTAMP:20260424T201409
CREATED:20190706T102847Z
LAST-MODIFIED:20190706T102847Z
UID:397-1590105600-1590191999@www.usna1978.org
SUMMARY:Class of 2020 Graduation
DESCRIPTION:
URL:https://www.usna1978.org/event/class-of-2020-graduation/
END:VEVENT
END:VCALENDAR