BEGIN:VCALENDAR
VERSION:2.0
PRODID:-//USNA 1978 - ECPv6.5.1.5//NONSGML v1.0//EN
CALSCALE:GREGORIAN
METHOD:PUBLISH
X-ORIGINAL-URL:https://www.usna1978.org
X-WR-CALDESC:Events for USNA 1978
REFRESH-INTERVAL;VALUE=DURATION:PT1H
X-Robots-Tag:noindex
X-PUBLISHED-TTL:PT1H
BEGIN:VTIMEZONE
TZID:America/New_York
BEGIN:DAYLIGHT
TZOFFSETFROM:-0500
TZOFFSETTO:-0400
TZNAME:EDT
DTSTART:20190310T070000
END:DAYLIGHT
BEGIN:STANDARD
TZOFFSETFROM:-0400
TZOFFSETTO:-0500
TZNAME:EST
DTSTART:20191103T060000
END:STANDARD
END:VTIMEZONE
BEGIN:VEVENT
DTSTART;VALUE=DATE:20191205
DTEND;VALUE=DATE:20191206
DTSTAMP:20260425T061747
CREATED:20190618T060448Z
LAST-MODIFIED:20190624T165445Z
UID:232-1575504000-1575590399@www.usna1978.org
SUMMARY:Fall Term Ends
DESCRIPTION:
URL:https://www.usna1978.org/event/fall-term-ends/
END:VEVENT
BEGIN:VEVENT
DTSTART;TZID=America/New_York:20191209T080000
DTEND;TZID=America/New_York:20191212T170000
DTSTAMP:20260425T061747
CREATED:20190618T061056Z
LAST-MODIFIED:20190706T103350Z
UID:240-1575878400-1576170000@www.usna1978.org
SUMMARY:USNA Fall Semester Exams
DESCRIPTION:
URL:https://www.usna1978.org/event/usna-exams/
END:VEVENT
BEGIN:VEVENT
DTSTART;TZID=America/New_York:20191211T080000
DTEND;TZID=America/New_York:20191212T170000
DTSTAMP:20260425T061747
CREATED:20190618T061439Z
LAST-MODIFIED:20190624T165424Z
UID:244-1576051200-1576170000@www.usna1978.org
SUMMARY:USNA Alumni Association Fall Board Meeting
DESCRIPTION:
URL:https://www.usna1978.org/event/usna-alumni-association-fall-board-meeting/
END:VEVENT
BEGIN:VEVENT
DTSTART;VALUE=DATE:20191212
DTEND;VALUE=DATE:20191213
DTSTAMP:20260425T061747
CREATED:20190924T005550Z
LAST-MODIFIED:20190924T005550Z
UID:6118-1576108800-1576195199@www.usna1978.org
SUMMARY:N Star Game - Men's and Women's Swimming and Diving vs. Army at Navy
DESCRIPTION:
URL:https://www.usna1978.org/event/n-star-game-mens-and-womens-swimming-and-diving-vs-army-at-navy/
END:VEVENT
BEGIN:VEVENT
DTSTART;TZID=America/New_York:20191214T140000
DTEND;TZID=America/New_York:20191214T140000
DTSTAMP:20260425T061747
CREATED:20190618T045607Z
LAST-MODIFIED:20190924T005445Z
UID:227-1576332000-1576332000@www.usna1978.org
SUMMARY:N Star Game - Army vs. Navy
DESCRIPTION:CBS
URL:https://www.usna1978.org/event/army-vs-navy/
LOCATION:Lincoln Financial Field\, 1 Lincoln Financial Field Way\, Philadelphia\, PA\, 19147\, United States
END:VEVENT
BEGIN:VEVENT
DTSTART;TZID=America/New_York:20191216T080000
DTEND;TZID=America/New_York:20191218T170000
DTSTAMP:20260425T061747
CREATED:20190618T061231Z
LAST-MODIFIED:20190624T165332Z
UID:242-1576483200-1576688400@www.usna1978.org
SUMMARY:USNA Exams
DESCRIPTION:
URL:https://www.usna1978.org/event/usna-exams-2/
END:VEVENT
BEGIN:VEVENT
DTSTART;VALUE=DATE:20191225
DTEND;VALUE=DATE:20191226
DTSTAMP:20260425T061747
CREATED:20190705T172536Z
LAST-MODIFIED:20190705T172536Z
UID:385-1577232000-1577318399@www.usna1978.org
SUMMARY:Christmas
DESCRIPTION:
URL:https://www.usna1978.org/event/christmas/
END:VEVENT
END:VCALENDAR