BEGIN:VCALENDAR
VERSION:2.0
PRODID:-//USNA 1978 - ECPv6.5.1.5//NONSGML v1.0//EN
CALSCALE:GREGORIAN
METHOD:PUBLISH
X-WR-CALNAME:USNA 1978
X-ORIGINAL-URL:https://www.usna1978.org
X-WR-CALDESC:Events for USNA 1978
REFRESH-INTERVAL;VALUE=DURATION:PT1H
X-Robots-Tag:noindex
X-PUBLISHED-TTL:PT1H
BEGIN:VTIMEZONE
TZID:America/New_York
BEGIN:DAYLIGHT
TZOFFSETFROM:-0500
TZOFFSETTO:-0400
TZNAME:EDT
DTSTART:20190310T070000
END:DAYLIGHT
BEGIN:STANDARD
TZOFFSETFROM:-0400
TZOFFSETTO:-0500
TZNAME:EST
DTSTART:20191103T060000
END:STANDARD
END:VTIMEZONE
BEGIN:VEVENT
DTSTART;VALUE=DATE:20191101
DTEND;VALUE=DATE:20191102
DTSTAMP:20260425T075754
CREATED:20190621T004504Z
LAST-MODIFIED:20190624T165702Z
UID:266-1572566400-1572652799@www.usna1978.org
SUMMARY:Boxing - Pittsburgh Invitational
DESCRIPTION:
URL:https://www.usna1978.org/event/boxing-pittsburgh-invitational/
END:VEVENT
BEGIN:VEVENT
DTSTART;TZID=America/New_York:20191101T190000
DTEND;TZID=America/New_York:20191101T190000
DTSTAMP:20260425T075754
CREATED:20190618T044751Z
LAST-MODIFIED:20190624T165639Z
UID:217-1572634800-1572634800@www.usna1978.org
SUMMARY:Navy at Connecticut
DESCRIPTION:ESPN2
URL:https://www.usna1978.org/event/navy-at-connecticut/
LOCATION:Rentschler Field\, 615 Silver Ln\, East Hartford\, CT\, 06118\, United States
END:VEVENT
BEGIN:VEVENT
DTSTART;VALUE=DATE:20191102
DTEND;VALUE=DATE:20191103
DTSTAMP:20260425T075754
CREATED:20190621T170735Z
LAST-MODIFIED:20190624T165630Z
UID:276-1572652800-1572739199@www.usna1978.org
SUMMARY:Boxing - Maryland Invitation
DESCRIPTION:
URL:https://www.usna1978.org/event/boxing-maryland-invitation/
END:VEVENT
BEGIN:VEVENT
DTSTART;VALUE=DATE:20191110
DTEND;VALUE=DATE:20191111
DTSTAMP:20260425T075754
CREATED:20190618T053729Z
LAST-MODIFIED:20190624T165621Z
UID:230-1573344000-1573430399@www.usna1978.org
SUMMARY:USMC Birthday
DESCRIPTION:
URL:https://www.usna1978.org/event/usmc-birthday/
END:VEVENT
BEGIN:VEVENT
DTSTART;VALUE=DATE:20191110
DTEND;VALUE=DATE:20191111
DTSTAMP:20260425T075754
CREATED:20190621T170840Z
LAST-MODIFIED:20190624T165610Z
UID:278-1573344000-1573430399@www.usna1978.org
SUMMARY:Boxing - Lock Haven University Invitational
DESCRIPTION:
URL:https://www.usna1978.org/event/boxing-lock-haven-university-invitational/
END:VEVENT
BEGIN:VEVENT
DTSTART;VALUE=DATE:20191111
DTEND;VALUE=DATE:20191112
DTSTAMP:20260425T075754
CREATED:20190702T193817Z
LAST-MODIFIED:20190702T193817Z
UID:364-1573430400-1573516799@www.usna1978.org
SUMMARY:Veterans Day
DESCRIPTION:
URL:https://www.usna1978.org/event/veterans-day/
END:VEVENT
BEGIN:VEVENT
DTSTART;TZID=America/New_York:20191116T133000
DTEND;TZID=America/New_York:20191116T133000
DTSTAMP:20260425T075754
CREATED:20190618T045120Z
LAST-MODIFIED:20190624T165555Z
UID:220-1573911000-1573911000@www.usna1978.org
SUMMARY:Navy at Notre Dame
DESCRIPTION:NBC
URL:https://www.usna1978.org/event/navy-at-notre-dame/
LOCATION:Notre Dame Stadium\, 2010 Moose Krause Circle\, Notre Dame\, IN\, 46556\, United States
END:VEVENT
BEGIN:VEVENT
DTSTART;VALUE=DATE:20191119
DTEND;VALUE=DATE:20191120
DTSTAMP:20260425T075754
CREATED:20190621T170950Z
LAST-MODIFIED:20190624T165516Z
UID:280-1574121600-1574207999@www.usna1978.org
SUMMARY:Boxing - New York Athletic Club
DESCRIPTION:
URL:https://www.usna1978.org/event/boxing-new-york-athletic-club/
END:VEVENT
BEGIN:VEVENT
DTSTART;TZID=America/New_York:20191123T143000
DTEND;TZID=America/New_York:20191123T143000
DTSTAMP:20260425T075754
CREATED:20190618T045238Z
LAST-MODIFIED:20190624T165506Z
UID:223-1574519400-1574519400@www.usna1978.org
SUMMARY:SMU vs. Navy
DESCRIPTION:CBS Sports Network
URL:https://www.usna1978.org/event/smu-vs-navy/
END:VEVENT
BEGIN:VEVENT
DTSTART;VALUE=DATE:20191128
DTEND;VALUE=DATE:20191129
DTSTAMP:20260425T075754
CREATED:20190705T172514Z
LAST-MODIFIED:20190705T172514Z
UID:383-1574899200-1574985599@www.usna1978.org
SUMMARY:Thanksgiving
DESCRIPTION:
URL:https://www.usna1978.org/event/thanksgiving/
END:VEVENT
BEGIN:VEVENT
DTSTART;TZID=America/New_York:20191130T000000
DTEND;TZID=America/New_York:20191130T000000
DTSTAMP:20260425T075754
CREATED:20190618T045430Z
LAST-MODIFIED:20190624T165455Z
UID:225-1575072000-1575072000@www.usna1978.org
SUMMARY:Navy at Houston
DESCRIPTION:TBD
URL:https://www.usna1978.org/event/navy-at-houston/
END:VEVENT
END:VCALENDAR