BEGIN:VCALENDAR
VERSION:2.0
PRODID:-//USNA 1978 - ECPv6.5.1.5//NONSGML v1.0//EN
CALSCALE:GREGORIAN
METHOD:PUBLISH
X-WR-CALNAME:USNA 1978
X-ORIGINAL-URL:https://www.usna1978.org
X-WR-CALDESC:Events for USNA 1978
REFRESH-INTERVAL;VALUE=DURATION:PT1H
X-Robots-Tag:noindex
X-PUBLISHED-TTL:PT1H
BEGIN:VTIMEZONE
TZID:America/New_York
BEGIN:DAYLIGHT
TZOFFSETFROM:-0500
TZOFFSETTO:-0400
TZNAME:EDT
DTSTART:20230312T070000
END:DAYLIGHT
BEGIN:STANDARD
TZOFFSETFROM:-0400
TZOFFSETTO:-0500
TZNAME:EST
DTSTART:20231105T060000
END:STANDARD
END:VTIMEZONE
BEGIN:VEVENT
DTSTART;TZID=America/New_York:20230422T080000
DTEND;TZID=America/New_York:20230422T170000
DTSTAMP:20260422T015018
CREATED:20221215T035643Z
LAST-MODIFIED:20221216T025444Z
UID:18267-1682150400-1682182800@www.usna1978.org
SUMMARY:Men’s Lacrosse N Star Game\, Army at Navy\,
DESCRIPTION:Series – Navy 63 – 36 – 3
URL:https://www.usna1978.org/event/mens-lacrosse-n-star-game-army-at-navy/
END:VEVENT
BEGIN:VEVENT
DTSTART;TZID=America/New_York:20230422T080000
DTEND;TZID=America/New_York:20230422T170000
DTSTAMP:20260422T015018
CREATED:20221215T040048Z
LAST-MODIFIED:20221216T025533Z
UID:18272-1682150400-1682182800@www.usna1978.org
SUMMARY:Women’s Lacrosse N Star Game\, Navy at Army
DESCRIPTION:Series – Navy 7-1
URL:https://www.usna1978.org/event/womens-lacrosse-n-star-game-navy-at-army/
END:VEVENT
BEGIN:VEVENT
DTSTART;TZID=America/New_York:20230422T080000
DTEND;TZID=America/New_York:20230422T170000
DTSTAMP:20260422T015018
CREATED:20221216T021505Z
LAST-MODIFIED:20221216T025613Z
UID:18313-1682150400-1682182800@www.usna1978.org
SUMMARY:Baseball N Star Game\, Army at Navy (DH)
DESCRIPTION:Navy 129 – 123
URL:https://www.usna1978.org/event/baseball-n-star-game-army-at-navy-dh/
END:VEVENT
END:VCALENDAR