BEGIN:VCALENDAR
VERSION:2.0
PRODID:-//USNA 1978 - ECPv6.5.1.5//NONSGML v1.0//EN
CALSCALE:GREGORIAN
METHOD:PUBLISH
X-ORIGINAL-URL:https://www.usna1978.org
X-WR-CALDESC:Events for USNA 1978
REFRESH-INTERVAL;VALUE=DURATION:PT1H
X-Robots-Tag:noindex
X-PUBLISHED-TTL:PT1H
BEGIN:VTIMEZONE
TZID:America/New_York
BEGIN:DAYLIGHT
TZOFFSETFROM:-0500
TZOFFSETTO:-0400
TZNAME:EDT
DTSTART:20220313T070000
END:DAYLIGHT
BEGIN:STANDARD
TZOFFSETFROM:-0400
TZOFFSETTO:-0500
TZNAME:EST
DTSTART:20221106T060000
END:STANDARD
END:VTIMEZONE
BEGIN:VEVENT
DTSTART;TZID=America/New_York:20220819T080000
DTEND;TZID=America/New_York:20220819T170000
DTSTAMP:20260422T184727
CREATED:20220512T182252Z
LAST-MODIFIED:20220512T182253Z
UID:17379-1660896000-1660928400@www.usna1978.org
SUMMARY:August Graduation
DESCRIPTION:
URL:https://www.usna1978.org/event/august-graduation-2/
LOCATION:U.S. Naval Academy Chapel\, 121 Blake Rd\, Annapolis\, MD\, 21402\, United States
END:VEVENT
END:VCALENDAR