BEGIN:VCALENDAR
VERSION:2.0
PRODID:-//USNA 1978 - ECPv6.5.1.5//NONSGML v1.0//EN
CALSCALE:GREGORIAN
METHOD:PUBLISH
X-ORIGINAL-URL:https://www.usna1978.org
X-WR-CALDESC:Events for USNA 1978
REFRESH-INTERVAL;VALUE=DURATION:PT1H
X-Robots-Tag:noindex
X-PUBLISHED-TTL:PT1H
BEGIN:VTIMEZONE
TZID:America/New_York
BEGIN:DAYLIGHT
TZOFFSETFROM:-0500
TZOFFSETTO:-0400
TZNAME:EDT
DTSTART:20210314T070000
END:DAYLIGHT
BEGIN:STANDARD
TZOFFSETFROM:-0400
TZOFFSETTO:-0500
TZNAME:EST
DTSTART:20211107T060000
END:STANDARD
END:VTIMEZONE
BEGIN:VEVENT
DTSTART;TZID=America/New_York:20210320T080000
DTEND;TZID=America/New_York:20210320T170000
DTSTAMP:20260424T044746
CREATED:20210113T033052Z
LAST-MODIFIED:20210113T033052Z
UID:12883-1616227200-1616259600@www.usna1978.org
SUMMARY:Women's Soccer N Star Game\, Army at Navy\, Annapolis\, MD
DESCRIPTION:
URL:https://www.usna1978.org/event/womens-soccer-n-star-game-army-at-navy-annapolis-md/
END:VEVENT
BEGIN:VEVENT
DTSTART;TZID=America/New_York:20210320T080000
DTEND;TZID=America/New_York:20210320T170000
DTSTAMP:20260424T044746
CREATED:20210113T033202Z
LAST-MODIFIED:20210113T033202Z
UID:12885-1616227200-1616259600@www.usna1978.org
SUMMARY:Men's Soccer N Star Game\, Navy at Army\, Chester\, PA
DESCRIPTION:
URL:https://www.usna1978.org/event/mens-soccer-n-star-game-navy-at-army-chester-pa/
END:VEVENT
END:VCALENDAR