BEGIN:VCALENDAR
VERSION:2.0
PRODID:-//USNA 1978 - ECPv6.5.1.5//NONSGML v1.0//EN
CALSCALE:GREGORIAN
METHOD:PUBLISH
X-WR-CALNAME:USNA 1978
X-ORIGINAL-URL:https://www.usna1978.org
X-WR-CALDESC:Events for USNA 1978
REFRESH-INTERVAL;VALUE=DURATION:PT1H
X-Robots-Tag:noindex
X-PUBLISHED-TTL:PT1H
BEGIN:VTIMEZONE
TZID:America/New_York
BEGIN:DAYLIGHT
TZOFFSETFROM:-0500
TZOFFSETTO:-0400
TZNAME:EDT
DTSTART:20210314T070000
END:DAYLIGHT
BEGIN:STANDARD
TZOFFSETFROM:-0400
TZOFFSETTO:-0500
TZNAME:EST
DTSTART:20211107T060000
END:STANDARD
END:VTIMEZONE
BEGIN:VEVENT
DTSTART;TZID=America/New_York:20210220T080000
DTEND;TZID=America/New_York:20210220T170000
DTSTAMP:20260424T122621
CREATED:20210113T033742Z
LAST-MODIFIED:20210113T033742Z
UID:12891-1613808000-1613840400@www.usna1978.org
SUMMARY:Women's Basketball N Star Game\, Army at Navy\, Annapolis\, MD
DESCRIPTION:
URL:https://www.usna1978.org/event/womens-basketball-n-star-game-army-at-navy-annapolis-md/
END:VEVENT
END:VCALENDAR