BEGIN:VCALENDAR
VERSION:2.0
PRODID:-//USNA 1978 - ECPv6.5.1.5//NONSGML v1.0//EN
CALSCALE:GREGORIAN
METHOD:PUBLISH
X-WR-CALNAME:USNA 1978
X-ORIGINAL-URL:https://www.usna1978.org
X-WR-CALDESC:Events for USNA 1978
REFRESH-INTERVAL;VALUE=DURATION:PT1H
X-Robots-Tag:noindex
X-PUBLISHED-TTL:PT1H
BEGIN:VTIMEZONE
TZID:America/New_York
BEGIN:DAYLIGHT
TZOFFSETFROM:-0500
TZOFFSETTO:-0400
TZNAME:EDT
DTSTART:20200308T070000
END:DAYLIGHT
BEGIN:STANDARD
TZOFFSETFROM:-0400
TZOFFSETTO:-0500
TZNAME:EST
DTSTART:20201101T060000
END:STANDARD
END:VTIMEZONE
BEGIN:VEVENT
DTSTART;TZID=America/New_York:20201210T080000
DTEND;TZID=America/New_York:20201219T170000
DTSTAMP:20260424T122630
CREATED:20200719T032940Z
LAST-MODIFIED:20200720T105600Z
UID:10722-1607587200-1608397200@www.usna1978.org
SUMMARY:Exams
DESCRIPTION:
URL:https://www.usna1978.org/event/exams-begin/
END:VEVENT
BEGIN:VEVENT
DTSTART;VALUE=DATE:20201212
DTEND;VALUE=DATE:20201213
DTSTAMP:20260424T122630
CREATED:20200315T210123Z
LAST-MODIFIED:20200315T210123Z
UID:8434-1607731200-1607817599@www.usna1978.org
SUMMARY:Navy Vs. Army\, Philadelphia PA
DESCRIPTION:
URL:https://www.usna1978.org/event/navy-vs-army-philadelphia-pa/
LOCATION:Lincoln Financial Field\, 1 Lincoln Financial Field Way\, Philadelphia\, PA\, 19147\, United States
END:VEVENT
END:VCALENDAR