BEGIN:VCALENDAR
VERSION:2.0
PRODID:-//USNA 1978 - ECPv6.5.1.5//NONSGML v1.0//EN
CALSCALE:GREGORIAN
METHOD:PUBLISH
X-ORIGINAL-URL:https://www.usna1978.org
X-WR-CALDESC:Events for USNA 1978
REFRESH-INTERVAL;VALUE=DURATION:PT1H
X-Robots-Tag:noindex
X-PUBLISHED-TTL:PT1H
BEGIN:VTIMEZONE
TZID:America/New_York
BEGIN:DAYLIGHT
TZOFFSETFROM:-0500
TZOFFSETTO:-0400
TZNAME:EDT
DTSTART:20200308T070000
END:DAYLIGHT
BEGIN:STANDARD
TZOFFSETFROM:-0400
TZOFFSETTO:-0500
TZNAME:EST
DTSTART:20201101T060000
END:STANDARD
END:VTIMEZONE
BEGIN:VEVENT
DTSTART;VALUE=DATE:20200418
DTEND;VALUE=DATE:20200419
DTSTAMP:20260424T232812
CREATED:20190702T193731Z
LAST-MODIFIED:20190924T010438Z
UID:362-1587168000-1587254399@www.usna1978.org
SUMMARY:N Star Game - Men's Lacrosse vs. Army at West Point
DESCRIPTION:
URL:https://www.usna1978.org/event/u-s-marine-corps-birthday/
END:VEVENT
BEGIN:VEVENT
DTSTART;VALUE=DATE:20200418
DTEND;VALUE=DATE:20200419
DTSTAMP:20260424T232812
CREATED:20200106T235720Z
LAST-MODIFIED:20200107T005018Z
UID:7691-1587168000-1587254399@www.usna1978.org
SUMMARY:N Star Game - Men's Tennis vs. Army in Annapolis
DESCRIPTION:
URL:https://www.usna1978.org/event/n-star-game-m-tennis-vs-army/
END:VEVENT
BEGIN:VEVENT
DTSTART;VALUE=DATE:20200418
DTEND;VALUE=DATE:20200419
DTSTAMP:20260424T232812
CREATED:20200106T235811Z
LAST-MODIFIED:20200107T005128Z
UID:7693-1587168000-1587254399@www.usna1978.org
SUMMARY:N Star Game - Women's Lacrosse vs. Army at West Point
DESCRIPTION:
URL:https://www.usna1978.org/event/n-star-game-w-lacrosse-vs-army/
END:VEVENT
END:VCALENDAR